BEGIN:VCALENDAR
VERSION:2.0
PRODID:-// Crest Pontoon Boats //NONSGML Dealer Event Calendar//EN
BEGIN:VEVENT
UID:Event-7e2fed4af317415597bd8b9deba72936-20260421T113733Z@crestpontoonboats.com
DTSTAMP:20260421T113733Z
DTSTART:20260417T120000Z
DTEND:20260419T120000Z
SUMMARY:Spring In-Water Boat Show
DESCRIPTION:Performance Marine invites you to THE SPRING IN-WATER BOAT SHOW!  WE WILL H
 AVE 8 BOATS ON DISPLAY WERE YOU CAN DEMO AND SEE THE BEST FROM OUR LINE UP.
 
Directions: https://www.google.com/maps/dir/?api=1&destination=38.1400711
 9322007\,92.64901649325336

LOCATION:19 MM by Water 1232 Jeffries Road Osage Beach\, MO 65065
GEO:38.14007119322007;92.64901649325336
END:VEVENT
END:VCALENDAR
